BEGIN:VCALENDAR
VERSION:2.0
METHOD:PUBLISH
PRODID:-//eightway/atendo2//NONSGML v1.0//EN
BEGIN:VEVENT
DTSTAMP:20260420T53754Z
DTSTART:20170224T64500Z
DTEND:20170224T100000Z
LOCATION:London SE1 8XZ, UK (Outside the BFI Cinema and National Theatre)
UID:34-53
SUMMARY:Critical Mass - February 2017
DESCRIPTION:https://evolveforums.com/calendar/critical-mass-february-2017.34/event?id=53
URL:https://evolveforums.com/calendar/critical-mass-february-2017.34/event?id=53
END:VEVENT
END:VCALENDAR