BEGIN:VCALENDAR
VERSION:2.0
METHOD:PUBLISH
PRODID:-//eightway/atendo2//NONSGML v1.0//EN
BEGIN:VEVENT
DTSTAMP:20260420T84243Z
DTSTART:20170225T31500Z
DTEND:20170225T50000Z
LOCATION:1901 J Hart Clinton Dr, San Mateo, CA 94401, USA (Seal point Dog park)
UID:33-52
SUMMARY:Foster City meet up
DESCRIPTION:https://evolveforums.com/calendar/foster-city-meet-up.33/event?id=52
URL:https://evolveforums.com/calendar/foster-city-meet-up.33/event?id=52
END:VEVENT
END:VCALENDAR