BEGIN:VCALENDAR
VERSION:2.0
METHOD:PUBLISH
PRODID:-//eightway/atendo2//NONSGML v1.0//EN
BEGIN:VEVENT
DTSTAMP:20260420T114128Z
DTSTART:20170219T50000Z
DTEND:20170220T120000Z
LOCATION:164 Park Pl, Brooklyn, NY 11217, USA (Prospect Park)
UID:31-50
SUMMARY:E-Skate Sunday in Prospect Park (NYC Riders)
DESCRIPTION:https://evolveforums.com/calendar/e-skate-sunday-in-prospect-park-nyc-riders.31/event?id=50
URL:https://evolveforums.com/calendar/e-skate-sunday-in-prospect-park-nyc-riders.31/event?id=50
END:VEVENT
END:VCALENDAR