BEGIN:VCALENDAR
VERSION:2.0
METHOD:PUBLISH
PRODID:-//eightway/atendo2//NONSGML v1.0//EN
BEGIN:VEVENT
DTSTAMP:20260420T85946Z
DTSTART:20170325T40000Z
DTEND:20170325T110000Z
LOCATION:New York, NY, USA (Location Varies)
UID:28-44
SUMMARY:NYC E-Skate Meet-up's
DESCRIPTION:https://evolveforums.com/calendar/nyc-e-skate-meet-ups.28/event?id=44
URL:https://evolveforums.com/calendar/nyc-e-skate-meet-ups.28/event?id=44
END:VEVENT
END:VCALENDAR