BEGIN:VCALENDAR
VERSION:2.0
METHOD:PUBLISH
PRODID:-//eightway/atendo2//NONSGML v1.0//EN
BEGIN:VEVENT
DTSTAMP:20260420T85954Z
DTSTART:20170311T50000Z
DTEND:20170312T120000Z
LOCATION:New York, NY, USA (Location Varies)
UID:28-42
SUMMARY:NYC E-Skate Meet-up's
DESCRIPTION:https://evolveforums.com/calendar/nyc-e-skate-meet-ups.28/event?id=42
URL:https://evolveforums.com/calendar/nyc-e-skate-meet-ups.28/event?id=42
END:VEVENT
END:VCALENDAR