BEGIN:VCALENDAR
VERSION:2.0
METHOD:PUBLISH
PRODID:-//eightway/atendo2//NONSGML v1.0//EN
BEGIN:VEVENT
DTSTAMP:20260420T102052Z
DTSTART:20170409T70000Z
DTEND:20170409T90000Z
LOCATION:152 Poplar St, Half Moon Bay, CA 94019, USA (Poplar Beach Parking Lot)
UID:15-21
SUMMARY:NorCal Group Ride Meetup!
DESCRIPTION:https://evolveforums.com/calendar/norcal-group-ride-meetup.15/event?id=21
URL:https://evolveforums.com/calendar/norcal-group-ride-meetup.15/event?id=21
END:VEVENT
END:VCALENDAR